Workbook
Name AR: Banks!$AA$7
Name half: GeneralInfo!$S$4:$S$5
Name pre: GeneralInfo!$S$1:$S$3
Name y2\: 'Foreign Portfolio Category II'!$F$16
Name yy: GeneralInfo!$S$1:$S$5

Sheet Index
E6: XBRL Excel Utility
E7: 1. | F7: Overview
E8: 2. | F8: Before you begin
E9: 3. | F9: Index
E10: 4. | F10: Import XBRL file
E11: 5. | F11: Steps for filing Shareholding Pattern
E12: 6. | F12: Fill up the Shareholding Pattern
D15: 1. Overview
D16: The excel utility can be used for creating the XBRL/XML file for efiling of shareholding pattern.
D17: Shareholding pattern XBRL filling consists of two processes. Firstly generation of XBRL/XML file of the Shareholding pattern, and upload of generated XBRL/XML file to BSE Listing Center.
D20: 2. Before you begin
D21: 1. The version of Microsoft Excel in your system should be Microsoft Office Excel 2007 and above.
D22: 2. The system should have a file compression software to unzip excel utility file.
D23: 3. Make sure that you have downloaded the latest Excel Utility from BSE Website to your local system.
D24: 4. Make sure that you have downloaded the Chrome Browser to view report generated from Excel utility
D25: 5. Please enable the Macros (if disabled) as per instructions given in manual, so that all the functionalities of Excel Utility works fine. Please first go through Enable Macro - Manual attached with zip file.
D26: 6. Kindly use this file in local system instead of OneDrive/shared drive. Because it may gives an error "Run-time error '52' : Bad file name or number" While clicking on textblock button if files saved on OneDrive/shared drive.
D29: 3. Index
D30: 1 | E30: Details of general information about company | J30: General Info
D31: 2 | E31: Declaration | J31: Declaration
D32: 3 | E32: Summary | J32: Summary
D33: 4 | E33: Shareholding Pattern | J33: Shareholding Pattern
D34: 5 | E34: Annexure B | J34: Annexure B
D37: 4. Import XBRL file
D38: 1. Now you can import and view previously generated XBRL files by clicking Import XBRL button on Genenral information sheet.
D42: 5. Steps for Filing Shareholding Pattern
D43: I. Fill up the data: Navigate to each field of every section in the sheet to provide applicable data in correct format. (Formats will get reflected while filling data.) - Use paste special command to paste data from other sheet.
D44: II. Validating Sheets: Click on the ''Validate " button to ensure that the sheet has been properly filled and also data has been furnished in proper format. If there are some errors on the sheet, excel utility will prompt you about the same.
D45: III. Validate All Sheets: Click on the ''Home" button. And then click on "Validate All Sheet" button to ensure that all sheets has been properly filled and validated successfully. If there are some errors on the sheet, excel utility will prompt you about the same and stop validation at the same time. After correction, once again follow the same procedure to validate all sheets.
D46: Excel Utility will not allow you to generate XBRL/XML until you rectify all errors.
D47: IV. Generate XML : Excel Utility will not allow you to generate XBRL/XML unless successful validation of all sheet is completed. Now click on 'Generate XML'' to generate XBRL/XML file. - Save the XBRL/XML file in your desired folder in local system.
D48: V. Generate Report : Excel Utility will allow you to generate Report. Now click on 'Generate Report'' to generate html report. - Save the HTML Report file in your desired folder in local system. - To view HTML Report open "Chrome Web Browser" . - To print report in PDF Format, Click on print button and save as PDF.
D49: VI. Upload XML file to BSE Listing Center: For uploading the XBRL/XML file generated through Utility, login to BSE Listing Center and upload generated xml file. On Upload screen provide the required information and browse to select XML file and submit the XML.
D52: 6. Fill up the Shareholding Pattern
D53: 1. Cells with red fonts indicate mandatory fields.
... D61: 9. Adding Notes: Click on "Add Notes" button to add notes

Sheet GeneralInfo
R1: Equity Shares | S1: Pre-listing | T1: June | U1: Yes | W1: Pre-listing
R2: Preference Shares | S2: Quarterly | T2: September | U2: No | W2: Capital Restructuring
R3: Differential Voting Rights | S3: Capital Restructuring | T3: December | W3: Half yearly
S4: Half yearly | T4: March | W4: Yearly
E5: General information about company | S5: Yearly
E6: Scrip code | F6: 543519
E7: NSE Symbol | F7: NOTLISTED | M7: Regulation 31 (1) (a) | X7: Yes
E8: MSEI Symbol | F8: NOTLISTED | M8: Regulation 31 (1) (b) | X8: No
E9: ISIN | F9: INE0JMN01019 | M9: Regulation 31 (1) (c)
E10: Name of the company | F10: SHASHWAT FURNISHING SOLUTIONS LIMITED | M10: Regulation 31 (1)
E11: Whether company is SME | F11: Yes
E12: Class of Security | F12: Equity Shares
E13: Type of report | F13: Quarterly
E14: Quarter Ended / Half year ended/Date of Report (For Prelisting / Allotment) | F14: 31-03-2026
E15: Date of allotment / extinguishment (in case Capital Restructuring selected) / Listing Date
E16: Shareholding pattern filed under | F16: =IF(F13=S1,M7,IF(F13=S2,M8,IF(F13=S3,M9,IF(F13=S4,M8,IF(F13=S5,M8,""))))) -> Regulation 31 (1) (b)
E17: Whether the listed entity is Public Sector Undertaking (PSU)? | F17: No

Sheet Declaration
A1: Micro@213Vista | T1: Micro@213Vista | U1: Yes
U2: No
D8: Sr. No. | E8: Particular | F8: Yes/No | G8: Promoter and Promoter Group | H8: Public shareholder | I8: Non Promoter- Non Public
D9: 1 | E9: Whether the Listed Entity has issued any partly paid up shares? | F9: No | G9: No | H9: No | I9: No | M9: 1 | N9: 1 | O9: 1 | P9: 1 | R9: Partly Paid Up Shares | S9: Partly Paid Up Shares PPG | T9: Partly Paid Up Shares Public | U9: Partly Paid Up Shares NPNP
D10: 2 | E10: Whether the Listed Entity has issued any Convertible Securities ? | F10: No | G10: No | H10: No | I10: No | M10: 1 | N10: 1 | O10: 1 | P10: 1 | R10: Convertible Securities | S10: Convertible Securities PPG | T10: Convertible Securities Public | U10: Convertible Securities NPNP
D11: 3 | E11: Whether the Listed Entity has issued any Warrants ? | F11: No | G11: No | H11: No | I11: No | M11: 1 | N11: 1 | O11: 1 | P11: 1 | R11: Warrants | S11: Warrants PPG | T11: Warrants Public | U11: Warrants NPNP
D12: 4 | E12: Whether the Listed Entity has any shares against which depository receipts are issued? | F12: No | G12: No | H12: No | I12: No | M12: 1 | N12: 1 | O12: 1 | P12: 1 | R12: Depository Receipts | S12: Depository Receipts PPG | T12: Depository Receipts Public | U12: Depository Receipts NPNP
D13: 5 | E13: Whether the Listed Entity has any shares in locked-in? | F13: No | G13: No | H13: No | I13: No | M13: 1 | N13: 1 | O13: 1 | P13: 1 | R13: Locked In | S13: Locked In PPG | T13: Locked In Public | U13: Locked In NPNP
D14: 6 | E14: Whether any shares held by promoters are pledge or otherwise encumbered? | F14: No | G14: No | M14: 1 | N14: 1 | O14: 0 | P14: 0 | R14: Pledge Or Otherwise Encumbered | S14: Pledge Or Otherwise Encumbered PPG | T14: Pledge Or Otherwise Encumbered Public | U14: Pledge Or Otherwise Encumbered NPNP
D15: 7 | E15: Whether company has equity shares with differential voting rights? | F15: No | G15: No | H15: No | I15: No | M15: 1 | N15: 1 | O15: 1 | P15: 1 | R15: Voting Rights | S15: Voting Rights PPG | T15: Voting Rights Public | U15: Voting Rights NPNP
D16: 8 | E16: Whether the listed entity has any significant beneficial owner? | F16: No | R16: Whether the listed entity has any significant beneficial owner?

Sheet Summary
G2: Number of shareholders | H2: Number of fully paid up equity shares | I2: Number of partly paid-up equity shares | J2: Number of shares underlying outstanding depository receipts | K2: Total number of shares | L2: Shareholding as a percentage of total number of shares held by promoters and public shareholders and custodians or DR holders | M2: Number of voting rights held by same class of securities | N2: Number of voting rights held by differential voting rights | O2: Total Number of voting rights | P2: Percentage of total number of voting rights | Q2: Number of shares underlying outstanding convertible securities | R2: Number of warrant | S2: Total shareholding as a percentage assuming full conversion of convertible securities | T2: Total shareholding as a percentage assuming full conversion of convertible securities | U2: Number of the locked-in-shares | V2: Locked-in-shares as a percentage of total number of shares | W2: Pledged or encumbered - number of shares | X2: Pledged or encumbered shares held as percentage of total number of shares | Y2: Number of equity shares held in dematerialized form | Z2: Number of share under sub category one | AA2: Number of share under sub category two | AB2: Number of share under sub category three
E8: Table I - Summary Statement holding of specified securities
E9: Note : Data will be automatically populated from shareholding pattern sheet - Data Entry Restricted in this sheet
E10: Category (I) | F10: Category of shareholder (II) | G10: Nos. Of shareholders (III) | H10: No. of fully paid up equity shares held (IV) | I10: No. Of Partly paid-up equity shares held (V) | J10: No. Of shares underlying Depository Receipts (VI) | K10: Total nos. shares held (VII) = (IV)+(V)+ (VI) | L10: Shareholding as a % of total no. of shares (calculated as per SCRR, 1957) (VIII) As a % of (A+B+C2) | M10: Number of Voting Rights held in each class of securities (IX) | Q10: No. Of Shares Underlying Outstanding convertible securities (X) | R10: No. of Shares Underlying Outstanding Warrants (Xi) | S10: No. Of Shares Underlying Outstanding convertible securities and No. Of Warrants (Xi) (a) | T10: Shareholding , as a % assuming full conversion of convertible securities ( as a percentage of diluted share capital) (XI)= (VII)+(X) As a % of (A+B+C2) | U10: Number of Locked in shares (XII) | W10: Number of Shares pledged or otherwise encumbered (XIII) | Y10: Number of equity shares held in dematerialized form (XIV) | Z10: Sub-categorization of shares
M11: No of Voting (XIV) Rights | P11: Total as a % of (A+B+C) | Z11: Shareholding (No. of shares) under
M12: Class eg: X | N12: Class eg:y | O12: Total | U12: No. (a) | V12: As a % of total Shares held (b) | W12: No. (a) | X12: As a % of total Shares held (b) | Z12: Sub-category (i) | AA12: Sub-category (ii) | AB12: Sub-category (iii)
E13: (A) | F13: Promoter & Promoter Group | G13: =+IFERROR(IF(COUNT('Shareholding Pattern'!H26),('Shareholding Pattern'!H26),""),"") -> 7 | H13: =+IFERROR(IF(COUNT('Shareholding Pattern'!I26),('Shareholding Pattern'!I26),""),"") -> 1201500 | I13: =+IFERROR(IF(COUNT('Shareholding Pattern'!J26),('Shareholding Pattern'!J26),""),"") | J13: =+IFERROR(IF(COUNT('Shareholding Pattern'!K26),('Shareholding Pattern'!K26),""),"") | K13: =+IFERROR(IF(COUNT('Shareholding Pattern'!L26),('Shareholding Pattern'!L26),""),"") -> 1201500 | L13: =+IFERROR(IF(COUNT('Shareholding Pattern'!M26),('Shareholding Pattern'!M26),""),"") -> 57.54 | M13: =+IFERROR(IF(COUNT('Shareholding Pattern'!N26),('Shareholding Pattern'!N26),""),"") -> 1201500 | N13: =+IFERROR(IF(COUNT('Shareholding Pattern'!O26),('Shareholding Pattern'!O26),""),"") | ... Y13: =+IFERROR(IF(COUNT('Shareholding Pattern'!Z26),('Shareholding Pattern'!Z26),""),"") -> 1201500
E14: (B) | F14: Public | G14: =+IFERROR(IF(COUNT('Shareholding Pattern'!H71),('Shareholding Pattern'!H71),""),"") -> 131 | H14: =+IFERROR(IF(COUNT('Shareholding Pattern'!I71),('Shareholding Pattern'!I71),""),"") -> 886500 | I14: =+IFERROR(IF(COUNT('Shareholding Pattern'!J71),('Shareholding Pattern'!J71),""),"") | J14: =+IFERROR(IF(COUNT('Shareholding Pattern'!K71),('Shareholding Pattern'!K71),""),"") | K14: =+IFERROR(IF(COUNT('Shareholding Pattern'!L71),('Shareholding Pattern'!L71),""),"") -> 886500 | L14: =+IFERROR(IF(COUNT('Shareholding Pattern'!M71),('Shareholding Pattern'!M71),""),"") -> 42.46 | M14: =+IFERROR(IF(COUNT('Shareholding Pattern'!N71),('Shareholding Pattern'!N71),""),"") -> 886500 | N14: =+IFERROR(IF(COUNT('Shareholding Pattern'!O71),('Shareholding Pattern'!O71),""),"") | ... V14: =+IFERROR(IF(COUNT('Shareholding Pattern'!W71),('Shareholding Pattern'!W71),""),"") | Y14: =+IFERROR(IF(COUNT('Shareholding Pattern'!Z71),('Shareholding Pattern'!Z71),""),"") -> 886500 | Z14: =+IFERROR(IF(COUNT('Shareholding Pattern'!AA71),('Shareholding Pattern'!AA71),""),"") -> 886500 | AA14: =+IFERROR(IF(COUNT('Shareholding Pattern'!AB71),('Shareholding Pattern'!AB71),""),"") -> 0 | AB14: =+IFERROR(IF(COUNT('Shareholding Pattern'!AC71),('Shareholding Pattern'!AC71),""),"") -> 0
E15: (C) | F15: Non Promoter- Non Public | G15: =+IFERROR(IF(COUNT('Shareholding Pattern'!H77),('Shareholding Pattern'!H77),""),"") | H15: =+IFERROR(IF(COUNT('Shareholding Pattern'!I77),('Shareholding Pattern'!I77),""),"") | I15: =+IFERROR(IF(COUNT('Shareholding Pattern'!J77),('Shareholding Pattern'!J77),""),"") | J15: =+IFERROR(IF(COUNT('Shareholding Pattern'!K77),('Shareholding Pattern'!K77),""),"") | K15: =+IFERROR(IF(COUNT('Shareholding Pattern'!L77),('Shareholding Pattern'!L77),""),"") | M15: =+IFERROR(IF(COUNT('Shareholding Pattern'!N77),('Shareholding Pattern'!N77),""),"") | N15: =+IFERROR(IF(COUNT('Shareholding Pattern'!O77),('Shareholding Pattern'!O77),""),"") | O15: =+IFERROR(IF(COUNT('Shareholding Pattern'!P77),('Shareholding Pattern'!P77),""),"") | P15: =+IFERROR(IF(COUNT('Shareholding Pattern'!Q77),('Shareholding Pattern'!Q77),""),"") | Q15: =+IFERROR(IF(COUNT('Shareholding Pattern'!R77),('Shareholding Pattern'!R77),""),"") | R15: =+IFERROR(IF(COUNT('Shareholding Pattern'!S77),('Shareholding Pattern'!S77),""),"") | S15: =+IFERROR(IF(COUNT('Shareholding Pattern'!T77),('Shareholding Pattern'!T77),""),"") | U15: =+IFERROR(IF(COUNT('Shareholding Pattern'!V77),('Shareholding Pattern'!V77),""),"") | V15: =+IFERROR(IF(COUNT('Shareholding Pattern'!W77),('Shareholding Pattern'!W77),""),"") | Y15: =+IFERROR(IF(COUNT('Shareholding Pattern'!Z77),('Shareholding Pattern'!Z77),""),"")
E16: (C1) | F16: Shares underlying DRs | G16: =+IFERROR(IF(COUNT('Shareholding Pattern'!H75),('Shareholding Pattern'!H75),""),"") | H16: =+IFERROR(IF(COUNT('Shareholding Pattern'!I75),('Shareholding Pattern'!I75),""),"") | I16: =+IFERROR(IF(COUNT('Shareholding Pattern'!J75),('Shareholding Pattern'!J75),""),"") | J16: =+IFERROR(IF(COUNT('Shareholding Pattern'!K75),('Shareholding Pattern'!K75),""),"") | K16: =+IFERROR(IF(COUNT('Shareholding Pattern'!L75),('Shareholding Pattern'!L75),""),"") | M16: =+IFERROR(IF(COUNT('Shareholding Pattern'!N75),('Shareholding Pattern'!N75),""),"") | N16: =+IFERROR(IF(COUNT('Shareholding Pattern'!O75),('Shareholding Pattern'!O75),""),"") | O16: =+IFERROR(IF(COUNT('Shareholding Pattern'!P75),('Shareholding Pattern'!P75),""),"") | P16: =+IFERROR(IF(COUNT('Shareholding Pattern'!Q75),('Shareholding Pattern'!Q75),""),"") | Q16: =+IFERROR(IF(COUNT('Shareholding Pattern'!R75),('Shareholding Pattern'!R75),""),"") | R16: =+IFERROR(IF(COUNT('Shareholding Pattern'!S75),('Shareholding Pattern'!S75),""),"") | S16: =+IFERROR(IF(COUNT('Shareholding Pattern'!T75),('Shareholding Pattern'!T75),""),"") | U16: =+IFERROR(IF(COUNT('Shareholding Pattern'!V75),('Shareholding Pattern'!V75),""),"") | V16: =+IFERROR(IF(COUNT('Shareholding Pattern'!W75),('Shareholding Pattern'!W75),""),"") | Y16: =+IFERROR(IF(COUNT('Shareholding Pattern'!Z75),('Shareholding Pattern'!Z75),""),"")
E17: (C2) | F17: Shares held by Employee Trusts | G17: =+IFERROR(IF(COUNT('Shareholding Pattern'!H76),('Shareholding Pattern'!H76),""),"") | H17: =+IFERROR(IF(COUNT('Shareholding Pattern'!I76),('Shareholding Pattern'!I76),""),"") | I17: =+IFERROR(IF(COUNT('Shareholding Pattern'!J76),('Shareholding Pattern'!J76),""),"") | J17: =+IFERROR(IF(COUNT('Shareholding Pattern'!K76),('Shareholding Pattern'!K76),""),"") | K17: =+IFERROR(IF(COUNT('Shareholding Pattern'!L76),('Shareholding Pattern'!L76),""),"") | L17: =+IFERROR(IF(COUNT('Shareholding Pattern'!M76),('Shareholding Pattern'!M76),""),"") | M17: =+IFERROR(IF(COUNT('Shareholding Pattern'!N76),('Shareholding Pattern'!N76),""),"") | N17: =+IFERROR(IF(COUNT('Shareholding Pattern'!O76),('Shareholding Pattern'!O76),""),"") | ... V17: =+IFERROR(IF(COUNT('Shareholding Pattern'!W76),('Shareholding Pattern'!W76),""),"") | Y17: =+IFERROR(IF(COUNT('Shareholding Pattern'!Z76),('Shareholding Pattern'!Z76),""),"")
F18: Total | G18: =+IFERROR(IF(COUNT('Shareholding Pattern'!H79),('Shareholding Pattern'!H79),""),"") -> 138 | H18: =+IFERROR(IF(COUNT('Shareholding Pattern'!I79),('Shareholding Pattern'!I79),""),"") -> 2088000 | I18: =+IFERROR(IF(COUNT('Shareholding Pattern'!J79),('Shareholding Pattern'!J79),""),"") | J18: =+IFERROR(IF(COUNT('Shareholding Pattern'!K79),('Shareholding Pattern'!K79),""),"") | K18: =+IFERROR(IF(COUNT('Shareholding Pattern'!L79),('Shareholding Pattern'!L79),""),"") -> 2088000 | L18: =+IFERROR(IF(COUNT('Shareholding Pattern'!M79),('Shareholding Pattern'!M79),""),"") -> 100 | M18: =+IFERROR(IF(COUNT('Shareholding Pattern'!N79),('Shareholding Pattern'!N79),""),"") -> 2088000 | N18: =+IFERROR(IF(COUNT('Shareholding Pattern'!O79),('Shareholding Pattern'!O79),""),"") | ... AB18: =+IFERROR(IF(COUNT('Shareholding Pattern'!AC79),('Shareholding Pattern'!AC79),""),"") -> 0

Sheet Shareholding Pattern
H2: Number of shareholders | I2: Number of fully paid up equity shares | J2: Number of partly paid-up equity shares | K2: Number of shares underlying outstanding depository receipts | L2: Total number of shares | M2: Shareholding as a percentage of total number of shares held by promoters and public shareholders and custodians or DR holders | N2: Number of voting rights held by same class of securities | O2: Number of voting rights held by differential voting rights | P2: Total Number of voting rights | Q2: Percentage of total number of voting rights | R2: Number of shares underlying outstanding convertible securities | S2: Number of warrant | T2: Number of warrant and convertible securities | U2: Total shareholding as a percentage assuming full conversion of convertible securities | V2: Number of the locked-in-shares | W2: Locked-in-shares as a percentage of total number of shares | X2: Pledged or encumbered - number of shares | Y2: Pledged or encumbered shares held as percentage of total number of shares | Z2: Number of equity shares held in dematerialized form | AA2: Number of share under sub category one | AB2: Number of share under sub category two | AC2: Number of share under sub category three
E9: Sr. | F9: Category & Name of the Shareholders (I) | H9: Nos. Of shareholders (III) | I9: No. of fully paid up equity shares held (IV) | J9: No. Of Partly paid-up equity shares held (V) | K9: No. Of shares underlying Depository Receipts (VI) | L9: Total nos. shares held (VII) = (IV)+(V)+ (VI) | M9: Shareholding as a % of total no. of shares (calculated as per SCRR, 1957) (VIII) As a % of (A+B+C2) | N9: Number of Voting Rights held in each class of securities (IX) | R9: No. Of Shares Underlying Outstanding convertible securities (X) | S9: No. of Shares Underlying Outstanding Warrants (Xi) | T9: No. Of Shares Underlying Outstanding convertible securities and No. Of Warrants (Xi) (a) | U9: Shareholding , as a % assuming full conversion of convertible securities ( as a percentage of diluted share capital) (XI)= (VII)+(X) As a % of (A+B+C2) | V9: Number of Locked in shares (XII) | X9: Number of Shares pledged or otherwise encumbered (XIII) | Z9: Number of equity shares held in dematerialized form (XIV) | AA9: Sub-categorization of shares
N10: No of Voting (XIV) Rights | Q10: Total as a % of Total Voting rights | AA10: Shareholding (No. of shares) under
N11: Class eg: X | O11: Class eg:y | P11: Total | V11: No. (a) | W11: As a % of total Shares held (b) | X11: No. (a) | Y11: As a % of total Shares held (b) | AA11: Sub-category (i) | AB11: Sub-category (ii) | AC11: Sub-category (iii)
E12: A | F12: Table II - Statement showing shareholding pattern of the Promoter and Promoter Group
E13: (1) | F13: Indian
E14: (a) | F14: Individuals/Hindu undivided Family | H14: =IFERROR(IF(COUNT(IndHUF!$AD$13),IF(IndHUF!$AD$13=0,"0",IndHUF!$AD$13),""),"") -> 7 | I14: =+IF(COUNT(IndHUF!H24),IndHUF!H24,"") -> 1201500 | J14: =+IF(COUNT(IndHUF!I24),IndHUF!I24,"") | K14: =+IF(COUNT(IndHUF!J24),IndHUF!J24,"") | L14: =+IF(COUNT(IndHUF!K24),IndHUF!K24,"") -> 1201500 | M14: =+IFERROR(IF(COUNT(L14),ROUND(L14/'Shareholding Pattern'!$L$78*100,2),""),0) -> 57.54 | N14: =+IF(COUNT(+IndHUF!M24),SUM(+IndHUF!M24),"") -> 1201500 | O14: =+IF(COUNT(+IndHUF!N24),SUM(+IndHUF!N24),"") | P14: =+IF(COUNT(IndHUF!O24),IndHUF!O24,"") -> 1201500 | Q14: =+IF(COUNT(IndHUF!P24),IndHUF!P24,"") -> 57.54 | R14: =+IF(COUNT(IndHUF!Q24),IndHUF!Q24,"") | S14: =+IF(COUNT(IndHUF!R24),IndHUF!R24,"") | T14: =+IF(COUNT(IndHUF!S24),IndHUF!S24,"") | U14: =+IFERROR(IF(COUNT(L14,T14),ROUND(SUM(L14,T14)/SUM('Shareholding Pattern'!$L$78,'Shareholding Pattern'!$T$78)*100,2),""),0) -> 57.54 | V14: =+IF(COUNT(IndHUF!U24),IndHUF!U24,"") | W14: =+IFERROR(IF(COUNT(V14),ROUND(SUM(V14)/SUM(L14)*100,2),""),0) | X14: =+IF(COUNT(IndHUF!W24),IndHUF!W24,"") | Y14: =+IFERROR(IF(COUNT(X14),ROUND(SUM(X14)/SUM(L14)*100,2),""),0) | Z14: =+IF(COUNT(IndHUF!Y24),IndHUF!Y24,"") -> 1201500 | AH14: IndHUF | AR14: Individuals or Hindu undivided family [Member] | AX14: IndHUF | AZ14: IndividualsOrHUFDomain | BF14: DetailsSharesHeldByIndividualsOrHUFAxis
E15: (b) | F15: Central Government/ State Government(s) | H15: =IFERROR(IF(COUNT(CGAndSG!$AD$13),IF(CGAndSG!$AD$13=0,"0",CGAndSG!$AD$13),""),"") | I15: =IFERROR(IF(COUNT(CGAndSG!H16),(CGAndSG!H16),""),"") | J15: =IFERROR(IF(COUNT(CGAndSG!I16),(CGAndSG!I16),""),"") | K15: =IFERROR(IF(COUNT(CGAndSG!J16),(CGAndSG!J16),""),"") | L15: =IFERROR(IF(COUNT(CGAndSG!K16),(CGAndSG!K16),""),"") | M15: =+IFERROR(IF(COUNT(L15),ROUND(L15/'Shareholding Pattern'!$L$78*100,2),""),0) | N15: =IFERROR(IF(COUNT(CGAndSG!M16),(CGAndSG!M16),""),"") | O15: =IFERROR(IF(COUNT(CGAndSG!N16),(CGAndSG!N16),""),"") | P15: =IFERROR(IF(COUNT(CGAndSG!O16),(CGAndSG!O16),""),"") | Q15: =IFERROR(IF(COUNT(CGAndSG!P16),(CGAndSG!P16),""),0) | R15: =IFERROR(IF(COUNT(CGAndSG!Q16),(CGAndSG!Q16),""),"") | S15: =IFERROR(IF(COUNT(CGAndSG!R16),(CGAndSG!R16),""),"") | T15: =IFERROR(IF(COUNT(CGAndSG!S16),(CGAndSG!S16),""),"") | U15: =+IFERROR(IF(COUNT(L15,T15),ROUND(SUM(L15,T15)/SUM('Shareholding Pattern'!$L$78,'Shareholding Pattern'!$T$78)*100,2),""),0) | V15: =IFERROR(IF(COUNT(CGAndSG!U16),(CGAndSG!U16),""),"") | W15: =+IFERROR(IF(COUNT(V15),ROUND(SUM(V15)/SUM(L15)*100,2),""),0) | X15: =IFERROR(IF(COUNT(CGAndSG!W16),(CGAndSG!W16),""),"") | Y15: =+IFERROR(IF(COUNT(X15),ROUND(SUM(X15)/SUM(L15)*100,2),""),0) | Z15: =IFERROR(IF(COUNT(CGAndSG!Y16),(CGAndSG!Y16),""),"") | AH15: CGAndSG | AR15: Central government or State government(s) [Member] | AX15: CGAndSG | AZ15: CentralGovernmentOrStateGovernmentsDomain | BF15: DetailsOfSharesHeldByCentralGovernmentOrStateGovernmentsAxis
E16: (c) | F16: Financial Institutions/ Banks | H16: =IFERROR(IF(COUNT(Banks!$AD$13),IF(Banks!$AD$13=0,"0",Banks!$AD$13),""),"") | I16: =IFERROR(IF(COUNT(Banks!H16),(Banks!H16),""),"") | J16: =IFERROR(IF(COUNT(Banks!I16),(Banks!I16),""),"") | K16: =IFERROR(IF(COUNT(Banks!J16),(Banks!J16),""),"") | L16: =IFERROR(IF(COUNT(Banks!K16),(Banks!K16),""),"") | M16: =+IFERROR(IF(COUNT(L16),ROUND(L16/'Shareholding Pattern'!$L$78*100,2),""),0) | N16: =IFERROR(IF(COUNT(Banks!M16),(Banks!M16),""),"") | O16: =IFERROR(IF(COUNT(Banks!N16),(Banks!N16),""),"") | P16: =IFERROR(IF(COUNT(Banks!O16),(Banks!O16),""),"") | Q16: =IFERROR(IF(COUNT(Banks!P16),(Banks!P16),""),0) | R16: =IFERROR(IF(COUNT(Banks!Q16),(Banks!Q16),""),"") | S16: =IFERROR(IF(COUNT(Banks!R16),(Banks!R16),""),"") | T16: =IFERROR(IF(COUNT(Banks!S16),(Banks!S16),""),"") | U16: =+IFERROR(IF(COUNT(L16,T16),ROUND(SUM(L16,T16)/SUM('Shareholding Pattern'!$L$78,'Shareholding Pattern'!$T$78)*100,2),""),0) | V16: =IFERROR(IF(COUNT(Banks!U16),(Banks!U16),""),"") | W16: =+IFERROR(IF(COUNT(V16),ROUND(SUM(V16)/SUM(L16)*100,2),""),0) | X16: =IFERROR(IF(COUNT(Banks!W16),(Banks!W16),""),"") | Y16: =+IFERROR(IF(COUNT(X16),ROUND(SUM(X16)/SUM(L16)*100,2),""),0) | Z16: =IFERROR(IF(COUNT(Banks!Y16),(Banks!Y16),""),"") | AH16: Banks | AR16: Indian - financial institutions or banks [Member] | AX16: Banks | AZ16: IndianFinancialInstitutionsOrBanksDomain | BF16: DetailsOfSharesHeldByIndianFinancialInstitutionsOrBanksAxis
E17: (d) | F17: Any Other (specify) | H17: =IFERROR(IF(COUNT(OtherIND!$AG$13),IF(OtherIND!$AG$13=0,"0",OtherIND!$AG$13),""),"") | I17: =IFERROR(IF(COUNT(OtherIND!J16),(OtherIND!J16),""),"") | J17: =IFERROR(IF(COUNT(OtherIND!K16),(OtherIND!K16),""),"") | K17: =IFERROR(IF(COUNT(OtherIND!L16),(OtherIND!L16),""),"") | L17: =IFERROR(IF(COUNT(OtherIND!M16),(OtherIND!M16),""),"") | M17: =+IFERROR(IF(COUNT(L17),ROUND(L17/'Shareholding Pattern'!$L$78*100,2),""),0) | N17: =IFERROR(IF(COUNT(OtherIND!O16),(OtherIND!O16),""),"") | O17: =IFERROR(IF(COUNT(OtherIND!P16),(OtherIND!P16),""),"") | P17: =IFERROR(IF(COUNT(OtherIND!Q16),(OtherIND!Q16),""),"") | Q17: =IFERROR(IF(COUNT(OtherIND!R16),(OtherIND!R16),""),0) | R17: =IFERROR(IF(COUNT(OtherIND!S16),(OtherIND!S16),""),"") | S17: =IFERROR(IF(COUNT(OtherIND!T16),(OtherIND!T16),""),"") | T17: =IFERROR(IF(COUNT(OtherIND!U16),(OtherIND!U16),""),"") | U17: =+IFERROR(IF(COUNT(L17,T17),ROUND(SUM(L17,T17)/SUM('Shareholding Pattern'!$L$78,'Shareholding Pattern'!$T$78)*100,2),""),0) | V17: =IFERROR(IF(COUNT(OtherIND!W16),(OtherIND!W16),""),"") | W17: =+IFERROR(IF(COUNT(V17),ROUND(SUM(V17)/SUM(L17)*100,2),""),0) | X17: =IFERROR(IF(COUNT(OtherIND!Y16),(OtherIND!Y16),""),"") | Y17: =+IFERROR(IF(COUNT(X17),ROUND(SUM(X17)/SUM(L17)*100,2),""),0) | Z17: =IFERROR(IF(COUNT(OtherIND!AA16),(OtherIND!AA16),""),"") | AH17: OtherIND | AR17: Other Indian shareholders [Member] | AX17: OtherIND | AZ17: OthersIndianShareholdersDomain | BF17: DetailsOfSharesHeldByOthersIndianShareholdersAxis
E18: Sub-Total (A)(1) | H18: =+IFERROR(IF(COUNT(H14:H17),ROUND(SUM(H14:H17),0),""),"") -> 7 | I18: =+IFERROR(IF(COUNT(I14:I17),ROUND(SUM(I14:I17),0),""),"") -> 1201500 | J18: =+IFERROR(IF(COUNT(J14:J17),ROUND(SUM(J14:J17),0),""),"") | K18: =+IFERROR(IF(COUNT(K14:K17),ROUND(SUM(K14:K17),0),""),"") | L18: =+IFERROR(IF(COUNT(L14:L17),ROUND(SUM(L14:L17),0),""),"") -> 1201500 | M18: =+IFERROR(IF(COUNT(L18),ROUND(L18/'Shareholding Pattern'!$L$78*100,2),""),0) -> 57.54 | N18: =+IFERROR(IF(COUNT(N14:N17),ROUND(SUM(N14:N17),0),""),"") -> 1201500 | O18: =+IFERROR(IF(COUNT(O14:O17),ROUND(SUM(O14:O17),0),""),"") | P18: =+IFERROR(IF(COUNT(P14:P17),ROUND(SUM(P14:P17),0),""),"") -> 1201500 | Q18: =IFERROR(IF(COUNT(P18),ROUND(P18/$P$79*100,2),""),0) -> 57.54 | R18: =+IFERROR(IF(COUNT(R14:R17),ROUND(SUM(R14:R17),0),""),"") | S18: =+IFERROR(IF(COUNT(S14:S17),ROUND(SUM(S14:S17),0),""),"") | T18: =+IFERROR(IF(COUNT(T14:T17),ROUND(SUM(T14:T17),0),""),"") | U18: =+IFERROR(IF(COUNT(L18,T18),ROUND(SUM(L18,T18)/SUM('Shareholding Pattern'!$L$78,'Shareholding Pattern'!$T$78)*100,2),""),0) -> 57.54 | V18: =+IFERROR(IF(COUNT(V14:V17),ROUND(SUM(V14:V17),0),""),"") | W18: =+IFERROR(IF(COUNT(V18),ROUND(SUM(V18)/SUM(L18)*100,2),""),0) | X18: =+IFERROR(IF(COUNT(X14:X17),ROUND(SUM(X14:X17),0),""),"") | Y18: =+IFERROR(IF(COUNT(X18),ROUND(SUM(X18)/SUM(L18)*100,2),""),0) | Z18: =+IFERROR(IF(COUNT(Z14:Z17),ROUND(SUM(Z14:Z17),0),""),"") -> 1201500 | AR18: Indian [Member] | AX18: Individuals | AZ18: NonResidentIndividualsOrForeignIndividualsDomain | BF18: DetailsOfSharesHeldByNonResidentIndividualsOrForeignIndividualsAxis
E19: (2) | F19: Foreign | AX19: Government | AZ19: ForeignGovernmentDomain | BF19: DetailsOfSharesHeldByForeignGovernmentAxis
E20: (a) | F20: Individuals (NonResident Individuals/ Foreign Individuals) | H20: =IFERROR(IF(COUNT(Individuals!$AD$13),IF(Individuals!$AD$13=0,"0",Individuals!$AD$13),""),"") | I20: =IFERROR(IF(COUNT(Individuals!H16),(Individuals!H16),""),"") | J20: =IFERROR(IF(COUNT(Individuals!I16),(Individuals!I16),""),"") | K20: =IFERROR(IF(COUNT(Individuals!J16),(Individuals!J16),""),"") | L20: =IFERROR(IF(COUNT(Individuals!K16),(Individuals!K16),""),"") | M20: =+IFERROR(IF(COUNT(L20),ROUND(L20/'Shareholding Pattern'!$L$78*100,2),""),0) | N20: =IFERROR(IF(COUNT(Individuals!M16),(Individuals!M16),""),"") | O20: =IFERROR(IF(COUNT(Individuals!N16),(Individuals!N16),""),"") | P20: =IFERROR(IF(COUNT(Individuals!O16),(Individuals!O16),""),"") | Q20: =IFERROR(IF(COUNT(Individuals!P16),(Individuals!P16),""),0) | R20: =IFERROR(IF(COUNT(Individuals!Q16),(Individuals!Q16),""),"") | S20: =IFERROR(IF(COUNT(Individuals!R16),(Individuals!R16),""),"") | T20: =IFERROR(IF(COUNT(Individuals!S16),(Individuals!S16),""),"") | U20: =+IFERROR(IF(COUNT(L20,T20),ROUND(SUM(L20,T20)/SUM('Shareholding Pattern'!$L$78,'Shareholding Pattern'!$T$78)*100,2),""),0) | V20: =IFERROR(IF(COUNT(Individuals!U16),(Individuals!U16),""),"") | W20: =+IFERROR(IF(COUNT(V20),ROUND(SUM(V20)/SUM(L20)*100,2),""),0) | X20: =IFERROR(IF(COUNT(Individuals!W16),(Individuals!W16),""),"") | Y20: =+IFERROR(IF(COUNT(X20),ROUND(SUM(X20)/SUM(L20)*100,2),""),0) | Z20: =IFERROR(IF(COUNT(Individuals!Y16),(Individuals!Y16),""),"") | AH20: Individuals | AR20: Non-resident individuals or foreign individuals [Member] | AX20: Institutions | AZ20: ForeignInstitutionsDomain | BF20: DetailsOfSharesHeldByForeignInstitutionsAxis
E21: (b) | F21: Government | H21: =IFERROR(IF(COUNT(Government!$AD$13),IF(Government!$AD$13=0,"0",Government!$AD$13),""),"") | I21: =IFERROR(IF(COUNT(Government!H16),(Government!H16),""),"") | J21: =IFERROR(IF(COUNT(Government!I16),(Government!I16),""),"") | K21: =IFERROR(IF(COUNT(Government!J16),(Government!J16),""),"") | L21: =IFERROR(IF(COUNT(Government!K16),(Government!K16),""),"") | M21: =+IFERROR(IF(COUNT(L21),ROUND(L21/'Shareholding Pattern'!$L$78*100,2),""),0) | N21: =IFERROR(IF(COUNT(Government!M16),(Government!M16),""),"") | O21: =IFERROR(IF(COUNT(Government!N16),(Government!N16),""),"") | P21: =IFERROR(IF(COUNT(Government!O16),(Government!O16),""),"") | Q21: =IFERROR(IF(COUNT(Government!P16),(Government!P16),""),0) | R21: =IFERROR(IF(COUNT(Government!Q16),(Government!Q16),""),"") | S21: =IFERROR(IF(COUNT(Government!R16),(Government!R16),""),"") | T21: =IFERROR(IF(COUNT(Government!S16),(Government!S16),""),"") | U21: =+IFERROR(IF(COUNT(L21,T21),ROUND(SUM(L21,T21)/SUM('Shareholding Pattern'!$L$78,'Shareholding Pattern'!$T$78)*100,2),""),0) | V21: =IFERROR(IF(COUNT(Government!U16),(Government!U16),""),"") | W21: =+IFERROR(IF(COUNT(V21),ROUND(SUM(V21)/SUM(L21)*100,2),""),0) | X21: =IFERROR(IF(COUNT(Government!W16),(Government!W16),""),"") | Y21: =+IFERROR(IF(COUNT(X21),ROUND(SUM(X21)/SUM(L21)*100,2),""),0) | Z21: =IFERROR(IF(COUNT(Government!Y16),(Government!Y16),""),"") | AH21: Government | AR21: Foreign - Government [Member] | AX21: FPIPromoter | AZ21: ForeignPortfolioInvestorDomain | BF21: DetailsOfSharesHeldByForeignPortfolioInvestorAxis
E22: (c) | F22: Institutions | H22: =IFERROR(IF(COUNT(Institutions!$AD$13),IF(Institutions!$AD$13=0,"0",Institutions!$AD$13),""),"") | I22: =IFERROR(IF(COUNT(Institutions!H16),(Institutions!H16),""),"") | J22: =IFERROR(IF(COUNT(Institutions!I16),(Institutions!I16),""),"") | K22: =IFERROR(IF(COUNT(Institutions!J16),(Institutions!J16),""),"") | L22: =IFERROR(IF(COUNT(Institutions!K16),(Institutions!K16),""),"") | M22: =+IFERROR(IF(COUNT(L22),ROUND(L22/'Shareholding Pattern'!$L$78*100,2),""),0) | N22: =IFERROR(IF(COUNT(Institutions!M16),(Institutions!M16),""),"") | O22: =IFERROR(IF(COUNT(Institutions!N16),(Institutions!N16),""),"") | P22: =IFERROR(IF(COUNT(Institutions!O16),(Institutions!O16),""),"") | Q22: =IFERROR(IF(COUNT(Institutions!P16),(Institutions!P16),""),0) | R22: =IFERROR(IF(COUNT(Institutions!Q16),(Institutions!Q16),""),"") | S22: =IFERROR(IF(COUNT(Institutions!R16),(Institutions!R16),""),"") | T22: =IFERROR(IF(COUNT(Institutions!S16),(Institutions!S16),""),"") | U22: =+IFERROR(IF(COUNT(L22,T22),ROUND(SUM(L22,T22)/SUM('Shareholding Pattern'!$L$78,'Shareholding Pattern'!$T$78)*100,2),""),0) | V22: =IFERROR(IF(COUNT(Institutions!U16),(Institutions!U16),""),"") | W22: =+IFERROR(IF(COUNT(V22),ROUND(SUM(V22)/SUM(L22)*100,2),""),0) | X22: =IFERROR(IF(COUNT(Institutions!W16),(Institutions!W16),""),"") | Y22: =+IFERROR(IF(COUNT(X22),ROUND(SUM(X22)/SUM(L22)*100,2),""),0) | Z22: =IFERROR(IF(COUNT(Institutions!Y16),(Institutions!Y16),""),"") | AH22: Institutions | AR22: Foreign - institutions [Member] | AX22: OtherForeign | AZ22: OtherForeignShareholdersDomain | BF22: DetailsOfSharesHeldByOtherForeignShareholdersAxis
E23: (d) | F23: Foreign Portfolio Investor | H23: =IFERROR(IF(COUNT(FPIPromoter!$AD$13),IF(FPIPromoter!$AD$13=0,"0",FPIPromoter!$AD$13),""),"") | I23: =IFERROR(IF(COUNT(FPIPromoter!H16),(FPIPromoter!H16),""),"") | J23: =IFERROR(IF(COUNT(FPIPromoter!I16),(FPIPromoter!I16),""),"") | K23: =IFERROR(IF(COUNT(FPIPromoter!J16),(FPIPromoter!J16),""),"") | L23: =IFERROR(IF(COUNT(FPIPromoter!K16),(FPIPromoter!K16),""),"") | M23: =+IFERROR(IF(COUNT(L23),ROUND(L23/'Shareholding Pattern'!$L$78*100,2),""),0) | N23: =IFERROR(IF(COUNT(FPIPromoter!M16),(FPIPromoter!M16),""),"") | O23: =IFERROR(IF(COUNT(FPIPromoter!N16),(FPIPromoter!N16),""),"") | P23: =IFERROR(IF(COUNT(FPIPromoter!O16),(FPIPromoter!O16),""),"") | Q23: =IFERROR(IF(COUNT(FPIPromoter!P16),(FPIPromoter!P16),""),0) | R23: =IFERROR(IF(COUNT(FPIPromoter!Q16),(FPIPromoter!Q16),""),"") | S23: =IFERROR(IF(COUNT(FPIPromoter!R16),(FPIPromoter!R16),""),"") | T23: =IFERROR(IF(COUNT(FPIPromoter!S16),(FPIPromoter!S16),""),"") | U23: =+IFERROR(IF(COUNT(L23,T23),ROUND(SUM(L23,T23)/SUM('Shareholding Pattern'!$L$78,'Shareholding Pattern'!$T$78)*100,2),""),0) | V23: =IFERROR(IF(COUNT(FPIPromoter!U16),(FPIPromoter!U16),""),"") | W23: =+IFERROR(IF(COUNT(V23),ROUND(SUM(V23)/SUM(L23)*100,2),""),0) | X23: =IFERROR(IF(COUNT(FPIPromoter!W16),(FPIPromoter!W16),""),"") | Y23: =+IFERROR(IF(COUNT(X23),ROUND(SUM(X23)/SUM(L23)*100,2),""),0) | Z23: =IFERROR(IF(COUNT(FPIPromoter!Y16),(FPIPromoter!Y16),""),"") | AH23: FPIPromoter | AR23: Foreign portfolio investor [Member]
E24: (e) | F24: Any Other (specify) | H24: =IFERROR(IF(COUNT(OtherForeign!$AG$13),IF(OtherForeign!$AG$13=0,"0",OtherForeign!$AG$13),""),"") | I24: =IFERROR(IF(COUNT(OtherForeign!J16),(OtherForeign!J16),""),"") | J24: =IFERROR(IF(COUNT(OtherForeign!K16),(OtherForeign!K16),""),"") | K24: =IFERROR(IF(COUNT(OtherForeign!L16),(OtherForeign!L16),""),"") | L24: =IFERROR(IF(COUNT(OtherForeign!M16),(OtherForeign!M16),""),"") | M24: =+IFERROR(IF(COUNT(L24),ROUND(L24/'Shareholding Pattern'!$L$78*100,2),""),0) | N24: =IFERROR(IF(COUNT(OtherForeign!O16),(OtherForeign!O16),""),"") | O24: =IFERROR(IF(COUNT(OtherForeign!P16),(OtherForeign!P16),""),"") | P24: =IFERROR(IF(COUNT(OtherForeign!Q16),(OtherForeign!Q16),""),"") | Q24: =IFERROR(IF(COUNT(OtherForeign!R16),(OtherForeign!R16),""),0) | R24: =IFERROR(IF(COUNT(OtherForeign!S16),(OtherForeign!S16),""),"") | S24: =IFERROR(IF(COUNT(OtherForeign!T16),(OtherForeign!T16),""),"") | T24: =IFERROR(IF(COUNT(OtherForeign!U16),(OtherForeign!U16),""),"") | U24: =+IFERROR(IF(COUNT(L24,T24),ROUND(SUM(L24,T24)/SUM('Shareholding Pattern'!$L$78,'Shareholding Pattern'!$T$78)*100,2),""),0) | V24: =IFERROR(IF(COUNT(OtherForeign!W16),(OtherForeign!W16),""),"") | W24: =+IFERROR(IF(COUNT(V24),ROUND(SUM(V24)/SUM(L24)*100,2),""),0) | X24: =IFERROR(IF(COUNT(OtherForeign!Y16),(OtherForeign!Y16),""),"") | Y24: =+IFERROR(IF(COUNT(X24),ROUND(SUM(X24)/SUM(L24)*100,2),""),0) | Z24: =IFERROR(IF(COUNT(OtherForeign!AA16),(OtherForeign!AA16),""),"") | AH24: OtherForeign | AR24: Other foreign shareholders [Member]
E25: Sub-Total (A)(2) | H25: =+IFERROR(IF(COUNT(H20:H24),ROUND(SUM(H20:H24),0),""),"") | I25: =+IFERROR(IF(COUNT(I20:I24),ROUND(SUM(I20:I24),0),""),"") | J25: =+IFERROR(IF(COUNT(J20:J24),ROUND(SUM(J20:J24),0),""),"") | K25: =+IFERROR(IF(COUNT(K20:K24),ROUND(SUM(K20:K24),0),""),"") | L25: =+IFERROR(IF(COUNT(L20:L24),ROUND(SUM(L20:L24),0),""),"") | M25: =+IFERROR(IF(COUNT(L25),ROUND(L25/'Shareholding Pattern'!$L$78*100,2),""),0) | N25: =+IFERROR(IF(COUNT(N20:N24),ROUND(SUM(N20:N24),0),""),"") | O25: =+IFERROR(IF(COUNT(O20:O24),ROUND(SUM(O20:O24),0),""),"") | P25: =+IFERROR(IF(COUNT(P20:P24),ROUND(SUM(P20:P24),0),""),"") | Q25: =IFERROR(IF(COUNT(P25),ROUND(P25/$P$79*100,2),""),0) | R25: =+IFERROR(IF(COUNT(R20:R24),ROUND(SUM(R20:R24),0),""),"") | S25: =+IFERROR(IF(COUNT(S20:S24),ROUND(SUM(S20:S24),0),""),"") | T25: =+IFERROR(IF(COUNT(T20:T24),ROUND(SUM(T20:T24),0),""),"") | U25: =+IFERROR(IF(COUNT(L25,T25),ROUND(SUM(L25,T25)/SUM('Shareholding Pattern'!$L$78,'Shareholding Pattern'!$T$78)*100,2),""),0) | V25: =+IFERROR(IF(COUNT(V20:V24),ROUND(SUM(V20:V24),0),""),"") | W25: =+IFERROR(IF(COUNT(V25),ROUND(SUM(V25)/SUM(L25)*100,2),""),0) | X25: =+IFERROR(IF(COUNT(X20:X24),ROUND(SUM(X20:X24),0),""),"") | Y25: =+IFERROR(IF(COUNT(X25),ROUND(SUM(X25)/SUM(L25)*100,2),""),0) | Z25: =+IFERROR(IF(COUNT(Z20:Z24),ROUND(SUM(Z20:Z24),0),""),"") | AR25: Foreign [Member]
E26: Total Shareholding of Promoter and Promoter Group (A)=(A)(1)+(A)(2) | H26: =+IFERROR(IF(COUNT(H18,H25),ROUND(SUM(H18,H25),0),""),"") -> 7 | I26: =+IFERROR(IF(COUNT(I18,I25),ROUND(SUM(I18,I25),0),""),"") -> 1201500 | J26: =+IFERROR(IF(COUNT(J18,J25),ROUND(SUM(J18,J25),0),""),"") | K26: =+IFERROR(IF(COUNT(K18,K25),ROUND(SUM(K18,K25),0),""),"") | L26: =+IFERROR(IF(COUNT(L18,L25),ROUND(SUM(L18,L25),0),""),"") -> 1201500 | M26: =+IFERROR(IF(COUNT(L26),ROUND(L26/'Shareholding Pattern'!$L$78*100,2),""),0) -> 57.54 | N26: =+IFERROR(IF(COUNT(N18,N25),ROUND(SUM(N18,N25),0),""),"") -> 1201500 | O26: =+IFERROR(IF(COUNT(O18,O25),ROUND(SUM(O18,O25),0),""),"") | P26: =+IFERROR(IF(COUNT(P18,P25),ROUND(SUM(P18,P25),0),""),"") -> 1201500 | Q26: =IFERROR(IF(COUNT(P26),ROUND(P26/$P$79*100,2),""),0) -> 57.54 | R26: =+IFERROR(IF(COUNT(R18,R25),ROUND(SUM(R18,R25),0),""),"") | S26: =+IFERROR(IF(COUNT(S18,S25),ROUND(SUM(S18,S25),0),""),"") | T26: =+IFERROR(IF(COUNT(T18,T25),ROUND(SUM(T18,T25),0),""),"") | U26: =+IFERROR(IF(COUNT(L26,T26),ROUND(SUM(L26,T26)/SUM('Shareholding Pattern'!$L$78,'Shareholding Pattern'!$T$78)*100,2),""),0) -> 57.54 | V26: =+IFERROR(IF(COUNT(V18,V25),ROUND(SUM(V18,V25),0),""),"") | W26: =+IFERROR(IF(COUNT(V26),ROUND(SUM(V26)/SUM(L26)*100,2),""),0) | X26: =+IFERROR(IF(COUNT(X18,X25),ROUND(SUM(X18,X25),0),""),"") | Y26: =+IFERROR(IF(COUNT(X26),ROUND(SUM(X26)/SUM(L26)*100,2),""),0) | Z26: =+IFERROR(IF(COUNT(Z18,Z25),ROUND(SUM(Z18,Z25),0),""),"") -> 1201500 | AR26: Shareholding of promoter and promoter group [Member]
F27: Details of Shares which remain unclaimed for Promoter & Promoter Group
E28: B | F28: Table III - Statement showing shareholding pattern of the Public shareholder | H28: Note : Kindly show details of shareholders having more than one percentage of total no of shares. Please refer software manual.
E29: (1) | F29: Institutions (Domestic)
E30: (a) | F30: Mutual Funds | L30: =+IFERROR(IF(COUNT(I30:K30),ROUND(SUM(I30:K30),0),""),"") | M30: =+IFERROR(IF(COUNT(L30),ROUND(L30/'Shareholding Pattern'!$L$78*100,2),""),"") | P30: =+IFERROR(IF(COUNT(N30:O30),ROUND(SUM(N30:O30),0),""),"") | Q30: =+IFERROR(IF(COUNT(P30),ROUND(P30/'Shareholding Pattern'!$P$79*100,2),""),"") | T30: =+IFERROR(IF(COUNT(R30:S30),ROUND(SUM(R30:S30),0),""),"") | U30: =+IFERROR(IF(COUNT(L30,T30),ROUND(SUM(L30,T30)/SUM('Shareholding Pattern'!$L$78,'Shareholding Pattern'!$T$78)*100,2),""),"") | W30: =+IFERROR(IF(COUNT(V30),ROUND(SUM(V30)/SUM(L30)*100,2),""),0) | AH30: MutuaFund | AR30: Mutual funds or UTI [Member] | AX30: MutuaFund | AZ30: MutualFundsOrUtiDomain | BF30: DetailsOfSharesHeldByMutualFundsOrUtiAxis
E31: (b) | F31: Venture Capital Funds | L31: =+IFERROR(IF(COUNT(I31:K31),ROUND(SUM(I31:K31),0),""),"") | M31: =+IFERROR(IF(COUNT(L31),ROUND(L31/'Shareholding Pattern'!$L$78*100,2),""),"") | P31: =+IFERROR(IF(COUNT(N31:O31),ROUND(SUM(N31:O31),0),""),"") | Q31: =+IFERROR(IF(COUNT(P31),ROUND(P31/'Shareholding Pattern'!$P$79*100,2),""),"") | T31: =+IFERROR(IF(COUNT(R31:S31),ROUND(SUM(R31:S31),0),""),"") | U31: =+IFERROR(IF(COUNT(L31,T31),ROUND(SUM(L31,T31)/SUM('Shareholding Pattern'!$L$78,'Shareholding Pattern'!$T$78)*100,2),""),"") | W31: =+IFERROR(IF(COUNT(V31),ROUND(SUM(V31)/SUM(L31)*100,2),""),0) | AH31: VentureCap | AR31: Venture capital funds [Member] | AX31: VentureCap | AZ31: VentureCapitalFundsDomain | BF31: DetailsOfSharesHeldByVentureCapitalFundsAxis
E32: (c) | F32: Alternate Investment Funds | L32: =+IFERROR(IF(COUNT(I32:K32),ROUND(SUM(I32:K32),0),""),"") | M32: =+IFERROR(IF(COUNT(L32),ROUND(L32/'Shareholding Pattern'!$L$78*100,2),""),"") | P32: =+IFERROR(IF(COUNT(N32:O32),ROUND(SUM(N32:O32),0),""),"") | Q32: =+IFERROR(IF(COUNT(P32),ROUND(P32/'Shareholding Pattern'!$P$79*100,2),""),"") | T32: =+IFERROR(IF(COUNT(R32:S32),ROUND(SUM(R32:S32),0),""),"") | U32: =+IFERROR(IF(COUNT(L32,T32),ROUND(SUM(L32,T32)/SUM('Shareholding Pattern'!$L$78,'Shareholding Pattern'!$T$78)*100,2),""),"") | W32: =+IFERROR(IF(COUNT(V32),ROUND(SUM(V32)/SUM(L32)*100,2),""),0) | AH32: AIF | AR32: Alternative investment funds [Member] | AX32: AIF | AZ32: AlternativeInvestmentFundsDomain | BF32: DetailsOfSharesHeldByAlternativeInvestmentFundsAxis
E33: (d) | F33: Banks | L33: =+IFERROR(IF(COUNT(I33:K33),ROUND(SUM(I33:K33),0),""),"") | M33: =+IFERROR(IF(COUNT(L33),ROUND(L33/'Shareholding Pattern'!$L$78*100,2),""),"") | P33: =+IFERROR(IF(COUNT(N33:O33),ROUND(SUM(N33:O33),0),""),"") | Q33: =+IFERROR(IF(COUNT(P33),ROUND(P33/'Shareholding Pattern'!$P$79*100,2),""),"") | T33: =+IFERROR(IF(COUNT(R33:S33),ROUND(SUM(R33:S33),0),""),"") | U33: =+IFERROR(IF(COUNT(L33,T33),ROUND(SUM(L33,T33)/SUM('Shareholding Pattern'!$L$78,'Shareholding Pattern'!$T$78)*100,2),""),"") | W33: =+IFERROR(IF(COUNT(V33),ROUND(SUM(V33)/SUM(L33)*100,2),""),0) | AH33: Bank_Insti | AR33: Banks [Member] | AX33: Bank_Insti | AZ33: DetailsOfSharesHeldByBanksDomain | BF33: DetailsOfSharesHeldByBanksAxis
E34: (e) | F34: Insurance Companies | L34: =+IFERROR(IF(COUNT(I34:K34),ROUND(SUM(I34:K34),0),""),"") | M34: =+IFERROR(IF(COUNT(L34),ROUND(L34/'Shareholding Pattern'!$L$78*100,2),""),"") | P34: =+IFERROR(IF(COUNT(N34:O34),ROUND(SUM(N34:O34),0),""),"") | Q34: =+IFERROR(IF(COUNT(P34),ROUND(P34/'Shareholding Pattern'!$P$79*100,2),""),"") | T34: =+IFERROR(IF(COUNT(R34:S34),ROUND(SUM(R34:S34),0),""),"") | U34: =+IFERROR(IF(COUNT(L34,T34),ROUND(SUM(L34,T34)/SUM('Shareholding Pattern'!$L$78,'Shareholding Pattern'!$T$78)*100,2),""),"") | W34: =+IFERROR(IF(COUNT(V34),ROUND(SUM(V34)/SUM(L34)*100,2),""),0) | AH34: Insurance | AR34: Insurance Companies [Member] | AX34: Insurance | AZ34: InsuranceCompaniesDomain | BF34: DetailsOfSharesHeldByInsuranceCompaniesAxis
E35: (f) | F35: Provident Funds/ Pension Funds | L35: =+IFERROR(IF(COUNT(I35:K35),ROUND(SUM(I35:K35),0),""),"") | M35: =+IFERROR(IF(COUNT(L35),ROUND(L35/'Shareholding Pattern'!$L$78*100,2),""),"") | P35: =+IFERROR(IF(COUNT(N35:O35),ROUND(SUM(N35:O35),0),""),"") | Q35: =+IFERROR(IF(COUNT(P35),ROUND(P35/'Shareholding Pattern'!$P$79*100,2),""),"") | T35: =+IFERROR(IF(COUNT(R35:S35),ROUND(SUM(R35:S35),0),""),"") | U35: =+IFERROR(IF(COUNT(L35,T35),ROUND(SUM(L35,T35)/SUM('Shareholding Pattern'!$L$78,'Shareholding Pattern'!$T$78)*100,2),""),"") | W35: =+IFERROR(IF(COUNT(V35),ROUND(SUM(V35)/SUM(L35)*100,2),""),0) | AH35: Pension | AR35: Provident Funds or pension funds [Member] | AX35: Pension | AZ35: ProvidentFundsOrPensionFundsDomain | BF35: DetailsOfSharesHeldByProvidentFundsOrPensionFundsAxis
E36: (g) | F36: Asset reconstruction companies | L36: =+IFERROR(IF(COUNT(I36:K36),ROUND(SUM(I36:K36),0),""),"") | M36: =+IFERROR(IF(COUNT(L36),ROUND(L36/'Shareholding Pattern'!$L$78*100,2),""),"") | P36: =+IFERROR(IF(COUNT(N36:O36),ROUND(SUM(N36:O36),0),""),"") | Q36: =+IFERROR(IF(COUNT(P36),ROUND(P36/'Shareholding Pattern'!$P$79*100,2),""),"") | T36: =+IFERROR(IF(COUNT(R36:S36),ROUND(SUM(R36:S36),0),""),"") | U36: =+IFERROR(IF(COUNT(L36,T36),ROUND(SUM(L36,T36)/SUM('Shareholding Pattern'!$L$78,'Shareholding Pattern'!$T$78)*100,2),""),"") | W36: =+IFERROR(IF(COUNT(V36),ROUND(SUM(V36)/SUM(L36)*100,2),""),0) | AH36: AssetReconstruct | AR36: Asset reconstruction companies [Member] | AX36: AssetReconstruct | AZ36: DetailsOfSharesHeldByAssetReconstructionCompaniesDomain | BF36: DetailsOfSharesHeldByAssetReconstructionCompaniesAxis
E37: (h) | F37: Sovereign Wealth Funds | L37: =+IFERROR(IF(COUNT(I37:K37),ROUND(SUM(I37:K37),0),""),"") | M37: =+IFERROR(IF(COUNT(L37),ROUND(L37/'Shareholding Pattern'!$L$78*100,2),""),"") | P37: =+IFERROR(IF(COUNT(N37:O37),ROUND(SUM(N37:O37),0),""),"") | Q37: =+IFERROR(IF(COUNT(P37),ROUND(P37/'Shareholding Pattern'!$P$79*100,2),""),"") | T37: =+IFERROR(IF(COUNT(R37:S37),ROUND(SUM(R37:S37),0),""),"") | U37: =+IFERROR(IF(COUNT(L37,T37),ROUND(SUM(L37,T37)/SUM('Shareholding Pattern'!$L$78,'Shareholding Pattern'!$T$78)*100,2),""),"") | W37: =+IFERROR(IF(COUNT(V37),ROUND(SUM(V37)/SUM(L37)*100,2),""),0) | AH37: Sovereign Wealth(Domestic) | AR37: Sovereign wealth funds domestic [Member] | AX37: Sovereign Wealth(Domestic) | AZ37: DetailsOfSharesHeldBySovereignWealthFundsDomesticDomain | BF37: DetailsOfSharesHeldBySovereignWealthFundsDomesticAxis
E38: (i) | F38: NBFCs registered with RBI | L38: =+IFERROR(IF(COUNT(I38:K38),ROUND(SUM(I38:K38),0),""),"") | M38: =+IFERROR(IF(COUNT(L38),ROUND(L38/'Shareholding Pattern'!$L$78*100,2),""),"") | P38: =+IFERROR(IF(COUNT(N38:O38),ROUND(SUM(N38:O38),0),""),"") | Q38: =+IFERROR(IF(COUNT(P38),ROUND(P38/'Shareholding Pattern'!$P$79*100,2),""),"") | T38: =+IFERROR(IF(COUNT(R38:S38),ROUND(SUM(R38:S38),0),""),"") | U38: =+IFERROR(IF(COUNT(L38,T38),ROUND(SUM(L38,T38)/SUM('Shareholding Pattern'!$L$78,'Shareholding Pattern'!$T$78)*100,2),""),"") | W38: =+IFERROR(IF(COUNT(V38),ROUND(SUM(V38)/SUM(L38)*100,2),""),0) | AH38: NBFC | AR38: NBFCs registered with RBI [Member] | AX38: NBFC | AZ38: NBFCsRegisteredWithRbiDomain | BF38: DetailsOfSharesHeldByNBFCsRegisteredWithRbiAxis
E39: (j) | F39: Other Financial Institutions | L39: =+IFERROR(IF(COUNT(I39:K39),ROUND(SUM(I39:K39),0),""),"") | M39: =+IFERROR(IF(COUNT(L39),ROUND(L39/'Shareholding Pattern'!$L$78*100,2),""),"") | P39: =+IFERROR(IF(COUNT(N39:O39),ROUND(SUM(N39:O39),0),""),"") | Q39: =+IFERROR(IF(COUNT(P39),ROUND(P39/'Shareholding Pattern'!$P$79*100,2),""),"") | T39: =+IFERROR(IF(COUNT(R39:S39),ROUND(SUM(R39:S39),0),""),"") | U39: =+IFERROR(IF(COUNT(L39,T39),ROUND(SUM(L39,T39)/SUM('Shareholding Pattern'!$L$78,'Shareholding Pattern'!$T$78)*100,2),""),"") | W39: =+IFERROR(IF(COUNT(V39),ROUND(SUM(V39)/SUM(L39)*100,2),""),0) | AH39: Other Financial Institutions | AR39: Other financial institutions [Member] | AX39: Other Financial Institutions | AZ39: DetailsOfSharesHeldByOtherFinancialInstitutionsDomain | BF39: DetailsOfSharesHeldByOtherFinancialInstitutionsAxis
E40: (k) | F40: Any Other (specify) | L40: =+IFERROR(IF(COUNT(I40:K40),ROUND(SUM(I40:K40),0),""),"") | M40: =+IFERROR(IF(COUNT(L40),ROUND(L40/'Shareholding Pattern'!$L$78*100,2),""),"") | P40: =+IFERROR(IF(COUNT(N40:O40),ROUND(SUM(N40:O40),0),""),"") | Q40: =+IFERROR(IF(COUNT(P40),ROUND(P40/'Shareholding Pattern'!$P$79*100,2),""),"") | T40: =+IFERROR(IF(COUNT(R40:S40),ROUND(SUM(R40:S40),0),""),"") | U40: =+IFERROR(IF(COUNT(L40,T40),ROUND(SUM(L40,T40)/SUM('Shareholding Pattern'!$L$78,'Shareholding Pattern'!$T$78)*100,2),""),"") | W40: =+IFERROR(IF(COUNT(V40),ROUND(SUM(V40)/SUM(L40)*100,2),""),0) | AH40: Other_Insti | AR40: Other institutions domestic [Member] | AX40: Other_Insti | AZ40: DetailsOfSharesHeldByOtherInstitutionsDomesticDomain | BF40: DetailsOfSharesHeldByOtherInstitutionsDomesticAxis
E41: Sub-Total (B)(1) | H41: =+IFERROR(IF(COUNT(H30:H40),ROUND(SUM(H30:H40),0),""),"") | I41: =+IFERROR(IF(COUNT(I30:I40),ROUND(SUM(I30:I40),0),""),"") | J41: =+IFERROR(IF(COUNT(J30:J40),ROUND(SUM(J30:J40),0),""),"") | K41: =+IFERROR(IF(COUNT(K30:K40),ROUND(SUM(K30:K40),0),""),"") | L41: =+IFERROR(IF(COUNT(I41:K41),ROUND(SUM(I41:K41),0),""),"") | M41: =+IFERROR(IF(COUNT(L41),ROUND(L41/'Shareholding Pattern'!$L$78*100,2),""),"") | N41: =+IFERROR(IF(COUNT(N30:N40),ROUND(SUM(N30:N40),0),""),"") | O41: =+IFERROR(IF(COUNT(O30:O40),ROUND(SUM(O30:O40),0),""),"") | P41: =+IFERROR(IF(COUNT(N41:O41),ROUND(SUM(N41:O41),0),""),"") | Q41: =+IFERROR(IF(COUNT(P41),ROUND(P41/'Shareholding Pattern'!$P$79*100,2),""),"") | R41: =+IFERROR(IF(COUNT(R30:R40),ROUND(SUM(R30:R40),0),""),"") | S41: =+IFERROR(IF(COUNT(S30:S40),ROUND(SUM(S30:S40),0),""),"") | T41: =+IFERROR(IF(COUNT(R41:S41),ROUND(SUM(R41:S41),0),""),"") | U41: =+IFERROR(IF(COUNT(L41,T41),ROUND(SUM(L41,T41)/SUM('Shareholding Pattern'!$L$78,'Shareholding Pattern'!$T$78)*100,2),""),"") | V41: =+IFERROR(IF(COUNT(V30:V40),ROUND(SUM(V30:V40),0),""),"") | W41: =+IFERROR(IF(COUNT(V41),ROUND(SUM(V41)/SUM(L41)*100,2),""),0) | Z41: =+IFERROR(IF(COUNT(Z30:Z40),ROUND(SUM(Z30:Z40),0),""),"") | AA41: =+IFERROR(IF(COUNT(AA30:AA40),ROUND(SUM(AA30:AA40),0),""),"") | AB41: =+IFERROR(IF(COUNT(AB30:AB40),ROUND(SUM(AB30:AB40),0),""),"") | AC41: =+IFERROR(IF(COUNT(AC30:AC40),ROUND(SUM(AC30:AC40),0),""),"") | AR41: Institutions domestic [Member]
E42: (2) | F42: Institutions (Foreign)
E43: (a) | F43: Foreign Direct Investment | L43: =+IFERROR(IF(COUNT(I43:K43),ROUND(SUM(I43:K43),0),""),"") | M43: =+IFERROR(IF(COUNT(L43),ROUND(L43/'Shareholding Pattern'!$L$78*100,2),""),"") | P43: =+IFERROR(IF(COUNT(N43:O43),ROUND(SUM(N43:O43),0),""),"") | Q43: =+IFERROR(IF(COUNT(P43),ROUND(P43/'Shareholding Pattern'!$P$79*100,2),""),"") | T43: =+IFERROR(IF(COUNT(R43,S43),ROUND(SUM(R43,S43),0),""),"") | U43: =+IFERROR(IF(COUNT(L43,T43),ROUND(SUM(L43,T43)/SUM('Shareholding Pattern'!$L$78,'Shareholding Pattern'!$T$78)*100,2),""),"") | W43: =+IFERROR(IF(COUNT(V43),ROUND(SUM(V43)/SUM(L43)*100,2),""),0) | AH43: Foreign Direct Investment | AR43: Foreign direct investment [Member] | AX43: Foreign Direct Investment | AZ43: DetailsOfSharesHeldByForeignDirectInvestmentDomain | BF43: DetailsOfSharesHeldByForeignDirectInvestmentAxis
E44: (b) | F44: Foreign Venture Capital Investors | L44: =+IFERROR(IF(COUNT(I44:K44),ROUND(SUM(I44:K44),0),""),"") | M44: =+IFERROR(IF(COUNT(L44),ROUND(L44/'Shareholding Pattern'!$L$78*100,2),""),"") | P44: =+IFERROR(IF(COUNT(N44:O44),ROUND(SUM(N44:O44),0),""),"") | Q44: =+IFERROR(IF(COUNT(P44),ROUND(P44/'Shareholding Pattern'!$P$79*100,2),""),"") | T44: =+IFERROR(IF(COUNT(R44,S44),ROUND(SUM(R44,S44),0),""),"") | U44: =+IFERROR(IF(COUNT(L44,T44),ROUND(SUM(L44,T44)/SUM('Shareholding Pattern'!$L$78,'Shareholding Pattern'!$T$78)*100,2),""),"") | W44: =+IFERROR(IF(COUNT(V44),ROUND(SUM(V44)/SUM(L44)*100,2),""),0) | AH44: FVC | AR44: Foreign venture capital investors [Member] | AX44: FVC | AZ44: ForeignVentureCapitalInvestorsDomain | BF44: DetailsOfSharesHeldByForeignVentureCapitalInvestorsAxis
E45: (c) | F45: Sovereign Wealth Funds | L45: =+IFERROR(IF(COUNT(I45:K45),ROUND(SUM(I45:K45),0),""),"") | M45: =+IFERROR(IF(COUNT(L45),ROUND(L45/'Shareholding Pattern'!$L$78*100,2),""),"") | P45: =+IFERROR(IF(COUNT(N45:O45),ROUND(SUM(N45:O45),0),""),"") | Q45: =+IFERROR(IF(COUNT(P45),ROUND(P45/'Shareholding Pattern'!$P$79*100,2),""),"") | T45: =+IFERROR(IF(COUNT(R45,S45),ROUND(SUM(R45,S45),0),""),"") | U45: =+IFERROR(IF(COUNT(L45,T45),ROUND(SUM(L45,T45)/SUM('Shareholding Pattern'!$L$78,'Shareholding Pattern'!$T$78)*100,2),""),"") | W45: =+IFERROR(IF(COUNT(V45),ROUND(SUM(V45)/SUM(L45)*100,2),""),0) | AH45: Sovereign Wealth(Foreign) | AR45: Sovereign wealth funds foreign [Member] | AX45: Sovereign Wealth(Foreign) | AZ45: DetailsOfSharesHeldBySovereignWealthFundsForeignDomain | BF45: DetailsOfSharesHeldBySovereignWealthFundsForeignAxis
E46: (d) | F46: Foreign Portfolio Investors Category I | L46: =+IFERROR(IF(COUNT(I46:K46),ROUND(SUM(I46:K46),0),""),"") | M46: =+IFERROR(IF(COUNT(L46),ROUND(L46/'Shareholding Pattern'!$L$78*100,2),""),"") | P46: =+IFERROR(IF(COUNT(N46:O46),ROUND(SUM(N46:O46),0),""),"") | Q46: =+IFERROR(IF(COUNT(P46),ROUND(P46/'Shareholding Pattern'!$P$79*100,2),""),"") | T46: =+IFERROR(IF(COUNT(R46,S46),ROUND(SUM(R46,S46),0),""),"") | U46: =+IFERROR(IF(COUNT(L46,T46),ROUND(SUM(L46,T46)/SUM('Shareholding Pattern'!$L$78,'Shareholding Pattern'!$T$78)*100,2),""),"") | W46: =+IFERROR(IF(COUNT(V46),ROUND(SUM(V46)/SUM(L46)*100,2),""),0) | AH46: FPI_Insti | AR46: Institutions foreign portfolio investor catergory one [Member] | AX46: FPI_Insti | AZ46: DetailsOfSharesHeldByInstitutionsForeignPortfolioInvestorOneDomain | BF46: DetailsOfSharesHeldByInstitutionsForeignPortfolioInvestorOneAxis
E47: (e) | F47: Foreign Portfolio Investors Category II | L47: =+IFERROR(IF(COUNT(I47:K47),ROUND(SUM(I47:K47),0),""),"") | M47: =+IFERROR(IF(COUNT(L47),ROUND(L47/'Shareholding Pattern'!$L$78*100,2),""),"") | P47: =+IFERROR(IF(COUNT(N47:O47),ROUND(SUM(N47:O47),0),""),"") | Q47: =+IFERROR(IF(COUNT(P47),ROUND(P47/'Shareholding Pattern'!$P$79*100,2),""),"") | T47: =+IFERROR(IF(COUNT(R47,S47),ROUND(SUM(R47,S47),0),""),"") | U47: =+IFERROR(IF(COUNT(L47,T47),ROUND(SUM(L47,T47)/SUM('Shareholding Pattern'!$L$78,'Shareholding Pattern'!$T$78)*100,2),""),"") | W47: =+IFERROR(IF(COUNT(V47),ROUND(SUM(V47)/SUM(L47)*100,2),""),0) | AH47: Foreign Portfolio Category II | AR47: Institutions foreign portfolio investor catergory two [Member] | AX47: Foreign Portfolio Category II | AZ47: DetailsOfSharesHeldByInstitutionsForeignPortfolioInvestorTwoDomain | BF47: DetailsOfSharesHeldByInstitutionsForeignPortfolioInvestorTwoAxis
...

Sheet IndHUF
I1: 8
F2: Name of shareholder | G2: Permanent account number of shareholder | H2: Number of fully paid up equity shares | I2: Number of partly paid-up equity shares | J2: Number of shares underlying outstanding depository receipts | K2: Total number of shares | L2: Shareholding as a percentage of total number of shares held by promoters and public shareholders and custodians or DR holders | M2: Number of voting rights held by same class of securities | N2: Number of voting rights held by differential voting rights | O2: Total Number of voting rights | P2: Percentage of total number of voting rights | Q2: Number of shares underlying outstanding convertible securities | R2: Number of warrant | S2: Number of warrant and convertible securities | T2: Total shareholding as a percentage assuming full conversion of convertible securities | U2: Number of the locked-in-shares | V2: Locked-in-shares as a percentage of total number of shares | W2: Pledged or encumbered - number of shares | X2: Pledged or encumbered shares held as percentage of total number of shares | Y2: Number of equity shares held in dematerialized form | Z2: Reason for not providing PAN | AA2: Shareholder type | AR2: Promoter | AS2: Promoter Group
E9: Searial No. | F9: Name of the Shareholders (I) | G9: PAN (II) | H9: No. of fully paid up equity shares held (IV) | I9: No. Of Partly paid-up equity shares held (V) | J9: No. Of shares underlying Depository Receipts (VI) | K9: Total nos. shares held (VII) = (IV)+(V)+ (VI) | L9: Shareholding as a % of total no. of shares (calculated as per SCRR, 1957) (VIII) As a % of (A+B+C2) | M9: Number of Voting Rights held in each class of securities (IX) | Q9: No. Of Shares Underlying Outstanding convertible securities (X) | R9: No. of Shares Underlying Outstanding Warrants (Xi) | S9: No. Of Shares Underlying Outstanding convertible securities and No. Of Warrants (Xi) (a) | T9: Shareholding , as a % assuming full conversion of convertible securities (as a percentage of diluted share capital) (XI)= (VII)+(Xi)(a) As a % of (A+B+C2) | U9: Number of Locked in shares (XII) | W9: Number of Shares pledged or otherwise encumbered (XIII) | Y9: Number of equity shares held in dematerialized form (XIV) | Z9: Reason for not providing PAN | AA9: Shareholder type
M10: No of Voting (XIV) Rights | P10: Total as a % of Total Voting rights
M11: Class eg:X | N11: Class eg:y | O11: Total | U11: No. (a) | V11: As a % of total Shares held (b) | W11: No. (a) | X11: As a % of total Shares held (b)
E12: A1(a) | F12: Individuals/Hindu undivided Family
K13: =+IFERROR(IF(COUNT(H13:J13),ROUND(SUM(H13:J13),0),""),"") | L13: =+IFERROR(IF(COUNT(K13),ROUND(K13/'Shareholding Pattern'!$L$78*100,2),""),0) | M13: =IF(H13="","",H13) | O13: =+IFERROR(IF(COUNT(M13:N13),ROUND(SUM(M13,N13),2),""),"") | P13: =+IFERROR(IF(COUNT(O13),ROUND(O13/('Shareholding Pattern'!$P$79)*100,2),""),0) | S13: =+IFERROR(IF(COUNT(Q13:R13),ROUND(SUM(Q13:R13),0),""),"") | T13: =+IFERROR(IF(COUNT(K13,S13),ROUND(SUM(S13,K13)/SUM('Shareholding Pattern'!$L$78,'Shareholding Pattern'!$T$78)*100,2),""),0) | V13: =+IFERROR(IF(COUNT(U13),ROUND(SUM(U13)/SUM(K13)*100,2),""),0) | X13: =+IFERROR(IF(COUNT(W13),ROUND(SUM(W13)/SUM(K13)*100,2),""),0) | AC13: =IF(SUM(H13:Y13)>0,1,0) -> 0 | AD13: =IF(COUNT(H23:$Y$15008)=0,"",SUM(AC1:AC65540)) -> 7
E15: 1 | F15: RAJENDRA JAIN | G15: AFYPJ6333A | H15: 100 | K15: =+IFERROR(IF(COUNT(H15:J15),ROUND(SUM(H15:J15),0),""),"") -> 100 | L15: =+IFERROR(IF(COUNT(K15),ROUND(K15/'Shareholding Pattern'!$L$78*100,2),""),0) -> 0 | M15: =IF(H15="","",H15) -> 100 | O15: =+IFERROR(IF(COUNT(M15:N15),ROUND(SUM(M15,N15),2),""),"") -> 100 | P15: =+IFERROR(IF(COUNT(O15),ROUND(O15/('Shareholding Pattern'!$P$79)*100,2),""),0) -> 0 | S15: =+IFERROR(IF(COUNT(Q15:R15),ROUND(SUM(Q15:R15),0),""),"") | T15: =+IFERROR(IF(COUNT(K15,S15),ROUND(SUM(S15,K15)/SUM('Shareholding Pattern'!$L$78,'Shareholding Pattern'!$T$78)*100,2),""),0) -> 0 | V15: =+IFERROR(IF(COUNT(U15),ROUND(SUM(U15)/SUM(K15)*100,2),""),0) | X15: =+IFERROR(IF(COUNT(W15),ROUND(SUM(W15)/SUM(K15)*100,2),""),0) | Y15: 100 | AA15: Promoter Group | AC15: =IF(SUM(H15:Y15)>0,1,0) -> 1
E16: 2 | F16: SUSHILA DEVI LALIT KUMAR KARNAWAT | G16: AHRPK0664Q | H16: 100 | K16: =+IFERROR(IF(COUNT(H16:J16),ROUND(SUM(H16:J16),0),""),"") -> 100 | L16: =+IFERROR(IF(COUNT(K16),ROUND(K16/'Shareholding Pattern'!$L$78*100,2),""),0) -> 0 | M16: =IF(H16="","",H16) -> 100 | O16: =+IFERROR(IF(COUNT(M16:N16),ROUND(SUM(M16,N16),2),""),"") -> 100 | P16: =+IFERROR(IF(COUNT(O16),ROUND(O16/('Shareholding Pattern'!$P$79)*100,2),""),0) -> 0 | S16: =+IFERROR(IF(COUNT(Q16:R16),ROUND(SUM(Q16:R16),0),""),"") | T16: =+IFERROR(IF(COUNT(K16,S16),ROUND(SUM(S16,K16)/SUM('Shareholding Pattern'!$L$78,'Shareholding Pattern'!$T$78)*100,2),""),0) -> 0 | V16: =+IFERROR(IF(COUNT(U16),ROUND(SUM(U16)/SUM(K16)*100,2),""),0) | X16: =+IFERROR(IF(COUNT(W16),ROUND(SUM(W16)/SUM(K16)*100,2),""),0) | Y16: 100 | AA16: Promoter Group | AC16: =IF(SUM(H16:Y16)>0,1,0) -> 1
E17: 3 | F17: LALIT KARNAWAT JAIN | G17: AHRPK0665R | H17: 250 | K17: =+IFERROR(IF(COUNT(H17:J17),ROUND(SUM(H17:J17),0),""),"") -> 250 | L17: =+IFERROR(IF(COUNT(K17),ROUND(K17/'Shareholding Pattern'!$L$78*100,2),""),0) -> 0.01 | M17: =IF(H17="","",H17) -> 250 | O17: =+IFERROR(IF(COUNT(M17:N17),ROUND(SUM(M17,N17),2),""),"") -> 250 | P17: =+IFERROR(IF(COUNT(O17),ROUND(O17/('Shareholding Pattern'!$P$79)*100,2),""),0) -> 0.01 | S17: =+IFERROR(IF(COUNT(Q17:R17),ROUND(SUM(Q17:R17),0),""),"") | T17: =+IFERROR(IF(COUNT(K17,S17),ROUND(SUM(S17,K17)/SUM('Shareholding Pattern'!$L$78,'Shareholding Pattern'!$T$78)*100,2),""),0) -> 0.01 | V17: =+IFERROR(IF(COUNT(U17),ROUND(SUM(U17)/SUM(K17)*100,2),""),0) | X17: =+IFERROR(IF(COUNT(W17),ROUND(SUM(W17)/SUM(K17)*100,2),""),0) | Y17: 250 | AA17: Promoter | AC17: =IF(SUM(H17:Y17)>0,1,0) -> 1
